BEGIN:VCALENDAR
VERSION:2.0
PRODID:-//217.160.0.58//NONSGML kigkonsult.se iCalcreator 2.20//
CALSCALE:GREGORIAN
METHOD:PUBLISH
X-WR-TIMEZONE:UTC
BEGIN:VEVENT
UID:event121@Erika Wichmann
DTSTAMP:20260420T074715Z
CATEGORIES:Reikitreffen
DESCRIPTION:Reikitreffen ab 2. Grad\nKategorie: Reikitreffen\nICS-Link: htt
 ps://erika-wichmann.de/index.php?option=com_jem&view=event&id=121:reikitre
 ffen-ab-2-grad\n
DTSTART:20171018T193000Z
DTEND:20171018T220000Z
LOCATION:Alveslohe\,Buchenstr. 1\,25486 Alveslohe
SUMMARY:Reikitreffen ab 2. Grad
URL:https://erika-wichmann.de/index.php?option=com_jem&view=event&id=121:re
 ikitreffen-ab-2-grad
END:VEVENT
END:VCALENDAR
