BEGIN:VCALENDAR
VERSION:2.0
PRODID:-//217.160.0.58//NONSGML kigkonsult.se iCalcreator 2.20//
CALSCALE:GREGORIAN
METHOD:PUBLISH
X-WR-TIMEZONE:UTC
BEGIN:VEVENT
UID:event114@Erika Wichmann
DTSTAMP:20260420T075415Z
CATEGORIES:sonstige Veranstaltung
DESCRIPTION:Reiki und Geistiges Heilen (Ausbildung)\nKategorie: sonstige Ve
 ranstaltung\nICS-Link: https://erika-wichmann.de/index.php?option=com_jem&
 view=event&id=114:reiki-und-geistiges-heilen-ausbildung\n
DTSTART:20170819T100000Z
DTEND:20170820T170000Z
LOCATION:Alveslohe\,Buchenstr. 1\,25486 Alveslohe
SUMMARY:Reiki und Geistiges Heilen (Ausbildung)
URL:https://erika-wichmann.de/index.php?option=com_jem&view=event&id=114:re
 iki-und-geistiges-heilen-ausbildung
END:VEVENT
END:VCALENDAR
