BEGIN:VCALENDAR
VERSION:2.0
PRODID:-//217.160.0.58//NONSGML kigkonsult.se iCalcreator 2.20//
CALSCALE:GREGORIAN
METHOD:PUBLISH
X-WR-TIMEZONE:UTC
BEGIN:VEVENT
UID:event258@Erika Wichmann
DTSTAMP:20260420T041228Z
CATEGORIES:Reiki-Seminare
DESCRIPTION:Reikiseminar 3. Grad\nKategorie: Reiki-Seminare\nICS-Link: http
 s://erika-wichmann.de/index.php?option=com_jem&view=event&id=258:reikisemi
 nar-3-grad\n
DTSTART:20260509T100000Z
DTEND:20260509T170000Z
LOCATION:Alveslohe\,Buchenstr. 1\,25486 Alveslohe
SUMMARY:Reikiseminar 3. Grad
URL:https://erika-wichmann.de/index.php?option=com_jem&view=event&id=258:re
 ikiseminar-3-grad
END:VEVENT
BEGIN:VEVENT
UID:event257@Erika Wichmann
DTSTAMP:20260420T041228Z
CATEGORIES:Reiki-Seminare
DESCRIPTION:Reikiseminar 1. Grad\nKategorie: Reiki-Seminare\nICS-Link: http
 s://erika-wichmann.de/index.php?option=com_jem&view=event&id=257:reikisemi
 nar-1-grad\n
DTSTART:20260620T100000Z
DTEND:20260621T170000Z
LOCATION:Alveslohe\,Buchenstr. 1\,25486 Alveslohe
SUMMARY:Reikiseminar 1. Grad
URL:https://erika-wichmann.de/index.php?option=com_jem&view=event&id=257:re
 ikiseminar-1-grad
END:VEVENT
BEGIN:VEVENT
UID:event259@Erika Wichmann
DTSTAMP:20260420T041228Z
CATEGORIES:Reiki-Seminare
DESCRIPTION:Reikiseminar 2. Grad\nKategorie: Reiki-Seminare\nICS-Link: http
 s://erika-wichmann.de/index.php?option=com_jem&view=event&id=259:reikisemi
 nar-2-grad\n
DTSTART:20260829T100000Z
DTEND:20260830T170000Z
LOCATION:Alveslohe\,Buchenstr. 1\,25486 Alveslohe
SUMMARY:Reikiseminar 2. Grad
URL:https://erika-wichmann.de/index.php?option=com_jem&view=event&id=259:re
 ikiseminar-2-grad
END:VEVENT
BEGIN:VEVENT
UID:event260@Erika Wichmann
DTSTAMP:20260420T041228Z
CATEGORIES:andere Seminare
DESCRIPTION:Ausbildung Tiefenentspannung\, Engelheilung und Rückführungen\n
 Kategorie: andere Seminare\nICS-Link: https://erika-wichmann.de/index.php?
 option=com_jem&view=event&id=260:ausbildung-tiefenentspannung-engelheilung
 -und-rueckfuehrungen\n
DTSTART:20261031T100000Z
DTEND:20261101T170000Z
LOCATION:Alveslohe\,Buchenstr. 1\,25486 Alveslohe
SUMMARY:Ausbildung Tiefenentspannung\, Engelheilung und Rückführungen
URL:https://erika-wichmann.de/index.php?option=com_jem&view=event&id=260:au
 sbildung-tiefenentspannung-engelheilung-und-rueckfuehrungen
END:VEVENT
BEGIN:VEVENT
UID:event261@Erika Wichmann
DTSTAMP:20260420T041228Z
CATEGORIES:andere Seminare
DESCRIPTION:Ausbildung Tiefenentspannung\, Engelheilung und Rückführungen\n
 Kategorie: andere Seminare\nICS-Link: https://erika-wichmann.de/index.php?
 option=com_jem&view=event&id=261:ausbildung-tiefenentspannung-engelheilung
 -und-rueckfuehrungen\n
DTSTART:20261128T100000Z
DTEND:20261129T170000Z
LOCATION:Alveslohe\,Buchenstr. 1\,25486 Alveslohe
SUMMARY:Ausbildung Tiefenentspannung\, Engelheilung und Rückführungen
URL:https://erika-wichmann.de/index.php?option=com_jem&view=event&id=261:au
 sbildung-tiefenentspannung-engelheilung-und-rueckfuehrungen
END:VEVENT
END:VCALENDAR
